BEGIN:VCALENDAR
VERSION:2.0
PRODID:-//Mind Flux PDX - ECPv6.15.20//NONSGML v1.0//EN
CALSCALE:GREGORIAN
METHOD:PUBLISH
X-WR-CALNAME:Mind Flux PDX
X-ORIGINAL-URL:https://mindfluxpdx.com
X-WR-CALDESC:Events for Mind Flux PDX
REFRESH-INTERVAL;VALUE=DURATION:PT1H
X-Robots-Tag:noindex
X-PUBLISHED-TTL:PT1H
BEGIN:VTIMEZONE
TZID:America/Los_Angeles
BEGIN:DAYLIGHT
TZOFFSETFROM:-0800
TZOFFSETTO:-0700
TZNAME:PDT
DTSTART:20250309T100000
END:DAYLIGHT
BEGIN:STANDARD
TZOFFSETFROM:-0700
TZOFFSETTO:-0800
TZNAME:PST
DTSTART:20251102T090000
END:STANDARD
BEGIN:DAYLIGHT
TZOFFSETFROM:-0800
TZOFFSETTO:-0700
TZNAME:PDT
DTSTART:20260308T100000
END:DAYLIGHT
BEGIN:STANDARD
TZOFFSETFROM:-0700
TZOFFSETTO:-0800
TZNAME:PST
DTSTART:20261101T090000
END:STANDARD
BEGIN:DAYLIGHT
TZOFFSETFROM:-0800
TZOFFSETTO:-0700
TZNAME:PDT
DTSTART:20270314T100000
END:DAYLIGHT
BEGIN:STANDARD
TZOFFSETFROM:-0700
TZOFFSETTO:-0800
TZNAME:PST
DTSTART:20271107T090000
END:STANDARD
END:VTIMEZONE
BEGIN:VEVENT
DTSTART;TZID=America/Los_Angeles:20260424T180000
DTEND;TZID=America/Los_Angeles:20260424T210000
DTSTAMP:20260419T085332
CREATED:20260307T194902Z
LAST-MODIFIED:20260316T193517Z
UID:616-1777053600-1777064400@mindfluxpdx.com
SUMMARY:Cosmic Breath with Ashley & Brenda
DESCRIPTION:A Restorative Breath & Vibration Journey: Psilocybin\, Tuning Forks\, Energy Work\, Meditation\n\n\n\nBreathwork • Sound Frequency • Energy Healing • Meditation • Psilocybin Microdose \n\n\n\nA deeply restorative therapeutic experience designed to soothe the nervous system\, dissolve energetic blockages\, and support cellular-level renewal. \n\n\n\nJoin us for a gentle yet powerful session where intentional breath\, vibrational frequency\, and subtle energy work come together. Through guided breathwork\, sound resonance\, and mindful presence\, your body is invited into a state of harmony\, clarity\, and profound inner stillness. \n\n\n\n\n\n\n\nWhat to Expect\n\n\n\nOpening Grounding Ritual\n\n\n\nArrive\, set intentions\, and settle into the energy of the space. Meet your facilitators and connect with the group field. \n\n\n\nBreathwork Activation\n\n\n\nBegin with soft\, activating breathwork to oxygenate the body\, open energy pathways\, and establish a regulated\, receptive state. \n\n\n\nMeditative Stillness + Energy Work\n\n\n\nDrop into deep rest and guided meditation. During this phase\, hands-on or proximity energy work helps release stagnation and encourage subtle realignment. \n\n\n\nTuning Fork Vibrational Healing\n\n\n\nWeighted tuning forks are applied to the body to send resonant frequencies into the tissues\, supporting cellular recalibration\, relaxation\, and inner harmony. \n\n\n\nPsilocybin Microdose (up to 5 mg)\n\n\n\nA gentle microdose is offered to heighten sensory awareness\, deepen the meditative state\, and enhance connection to the healing process.(Psilocybin dose is an additional cost\, cash only\, and requires OHA forms completed 48+ hours prior.) \n\n\n\nIntegration + Closing Circle\n\n\n\nReturn slowly to wakefulness\, share reflections\, and receive grounding support and aftercare resources. \n\n\n\n\n\n\n\nWhy These Modalities Together?\n\n\n\nEmerging research suggests that combining breathwork\, sound\, microdosing\, and meditation may: \n\n\n\n\nDownshift the nervous system into parasympathetic rest\n\n\n\nIncrease sensory coherence and somatic awareness\n\n\n\nSupport emotional processing through vibrational release\n\n\n\nEnhance neuroplasticity and inner calm\n\n\n\nEncourage energetic alignment and subtle body balance\n\n\n\n\nSound frequencies\, in particular\, act as gentle guiding tones\, helping the mind settle while the body unwinds and resets. \n\n\n\n\n\n\n\nWho This Is For\n\n\n\nThis session is ideal for individuals seeking: \n\n\n\n\nRelease of stress\, anxiety\, and tension\n\n\n\nNervous system soothing + recalibration\n\n\n\nHealing through sound\, vibration\, and frequency\n\n\n\nGentle emotional and energetic realignment\n\n\n\nA deeply supportive\, non-overwhelming microdose experience\n\n\n\nRestorative inner stillness and harmony\n\n\n\n\n\n\n\n\nFacilitators \n\n\n\nAshley — Breathwork & Human Design Facilitator \n\n\n\nAshley is a trauma-informed breathwork guide\, meditation teacher\, and Human Design practitioner who leads with intuition\, truth\, and deep energetic awareness. From a young age\, she carried the unique ability to feel the emotions\, intentions\, and unspoken stories beneath the surface. Discovering she was a Projector in Human Design helped her understand this sensitivity as a gift rather than a burden. It clarified her purpose as someone who reads energy clearly and supports others through reflection and alignment.Her years working in healthcare revealed how much people suffer when disconnected from their inner truth\, which inspired her commitment to healing from the inside out. Through Quantum Sol\, Ashley creates immersive spaces for awakening through breathwork\, group experiences\, and 1:1 mentorship. She helps clients release old patterns\, reconnect with their bodies\, and reclaim their personal power.Her signature method\, Cosmic Breath\, is a heart-centered practice that bridges breath\, energy\, and embodied presence. Ashley’s work invites people to return to authenticity\, joy\, and inner clarity: one breath at a time. \n\n\n\n\n\n\n\nBrenda Davies — Psilocybin Facilitator (OHA Certified) \n\n\n\nBrenda is an Oregon-licensed psilocybin facilitator specializing in low-dose group experiences\, breathwork-supported journeys\, and medium-to-high-dose individual sessions. She brings a grounded and compassionate presence shaped by her background in psychology\, motherhood\, and community care. Brenda’s path into facilitation began with her deep interest in mental health\, which led her to complete her psychology degree with a focus on healing and human behavior.Her lived experiences navigating menopause\, trauma recovery\, and life transitions fuel her commitment to supporting others during their own periods of change. She believes psilocybin can open profound pathways to presence\, clarity\, and emotional transformation when held within safe\, intentional containers.Brenda’s approach weaves structure with spaciousness\, allowing clients to feel supported while exploring their inner landscapes. She is passionate about creating inclusive\, community-centered events that foster connection and collective growth. Whether in a group or one-on-one setting\, Brenda holds space with steady care\, genuine curiosity\, and a belief in each person’s innate wisdom.
URL:https://mindfluxpdx.com/event/616/
LOCATION:7 Gates Sanctuary\, 1034 SE Sandy Blvd\, Portland\, Or\, 97214
ATTACH;FMTTYPE=image/png:https://mindfluxpdx.com/wp-content/uploads/2026/03/Colorful-Blurred-Gradient-Quotes-Reminders-Instagram-Carousel.png
END:VEVENT
BEGIN:VEVENT
DTSTART;TZID=America/Los_Angeles:20261022T110000
DTEND;TZID=America/Los_Angeles:20261025T170000
DTSTAMP:20260419T085332
CREATED:20251230T215521Z
LAST-MODIFIED:20260403T220317Z
UID:364-1792666800-1792947600@mindfluxpdx.com
SUMMARY:Practically Magical Celebration
DESCRIPTION:✨ Practically Magical Celebration ✨ \n\n\n\nWhidbey Island \n\n\n\nA cozy\, soul-nourishing retreat to celebrate healing\, community\, and the quiet magic we’ve been weaving all year. \n\n\n\nNestled between forest\, sea\, and sky\, this gathering is an invitation to slow down\, soften\, and come home to yourself\, held in nature and supported by community. \n\n\n\n\n\n\n\n🌿 What Awaits You \n\n\n\nA thoughtfully curated blend of embodied practices\, rest\, and gentle adventure\, including: \n\n\n\n\nGuided breathwork journeys\n\n\n\nYoga\, qi-gong\, and intuitive movement\n\n\n\nSound healing for deep nervous system restoration\n\n\n\nNourishing\, lovingly prepared food\n\n\n\nRitual\, reflection\, creativity\, and cozy communal moments\n\n\n\n\nThis retreat is designed with spaciousness and choice at its heart. \n\n\n\n\n\n\n\n🌊 Optional Adventures \n\n\n\nFollow your curiosity or your need for rest. \n\n\n\n\nWander the charming seaside town of Oak Harbor\, Langley\, or Coupeville\n\n\n\nHike the breathtaking trails of Deception Pass\n\n\n\nForaging for mushrooms\n\n\n\nBook a whale and orca watching tour\n\n\n\nOr stay close: rest\, journal\, connect\, and enjoy the land\n\n\n\n\n\n\n\n\n🔮 Why We’re Gathering \n\n\n\nThis retreat is a celebration.Of the healing we’ve done.Of the growth we’ve witnessed.Of the community we’ve built together. \n\n\n\nIt’s a pause between chapters\, a chance to integrate\, honor\, and gently dream what’s next. \n\n\n\nSign up below to be the first to receive: \n\n\n\n\nRetreat dates & location details\n\n\n\nEarly registration access\n\n\n\nA full overview of offerings\n\n\n\nLogistics & travel info\n\n\n\n\n\n\n\n\n✨ Space is minimal. Sign up today and let the magic unfold. ✨ \n\n\n\nWe’ve created a range of ticket options to help make this experience more accessible\, while honoring the different ways you may want to arrive. \n\n\n\nThere are 4 rooms available with private bathrooms\, with a minimum of 2 people per room.All pricing is per person\, and each guest will need to purchase their own ticket. \n\n\n\nFor travel\, you can reach us by taking the ferry from Mukilteo Ferry Terminal or enjoy a scenic drive via Deception Pass. \n\n\n\n\n\n\n\n\n\n\n\n\n\n\n\n\n\n\n\n\n\n\n\n\n\n\n\n\n\n\n\nFill out the info below to get more details and be the first to sign up for this magical retreat.  \n\n\n\n← Back Thank you for your response. ✨\n\n\n					\n						\n							\n							\n						\n						\n						\n						\n						\n							\n								\n									\n										\n										\n									\n									\n										\n										\n									\n								\n							\n						\n						\n							\n								\n									\n									\n										\n									\n									\n									\n								\n							\n						\n					\n				\n\n\n\n\nName(required)\n\n \n			\n				\n					\n						\n						\n						\n					\n				\n				\n			 \n	\n\n\n\n\nEmail(required)\n\n \n			\n				\n					\n						\n						\n						\n					\n				\n				\n			 \n	\n\n\n\n\n		 \n		Can we send you an email from time to time?\n\n\n			\n				\n					\n						\n						\n						\n					\n				\n				\n				\n\n\n\n\nMessage\n\n \n			\n				\n					\n						\n						\n						\n					\n				\n				\n			\n	\n\n\n\n				\n					\n				\n				 Contact UsSubmitting form\n		\n		\n		\nΔ
URL:https://mindfluxpdx.com/event/practically-magical-celebration/
LOCATION:Or
ATTACH;FMTTYPE=image/png:https://mindfluxpdx.com/wp-content/uploads/2025/12/practically-magical.png
END:VEVENT
END:VCALENDAR